BEGIN:VCALENDAR
VERSION:2.0
PRODID:icalendar-ruby
CALSCALE:GREGORIAN
METHOD:PUBLISH
BEGIN:VEVENT
DTSTAMP:20260424T143759Z
UID:112-269900@dundasbaptistchurch.com
DTSTART:20260426T143000Z
DTEND:20260426T153000Z
CLASS:PUBLIC
CREATED:20260423T125633
DESCRIPTION:
LAST-MODIFIED:20260423T125633
LOCATION:201 Governor's Road\, Dundas Baptist Church
SUMMARY:" Disappointment " Altered Expectations
URL;VALUE=URI:https://www.dundasbaptistchurch.com/events/disappointment-alt
 ered-expectations/2026-04-26
END:VEVENT
END:VCALENDAR
